BEGIN:VCALENDAR
VERSION:2.0
PRODID:-//hacksw/handcal//NONSGML v1.0//EN
BEGIN:VEVENT
SUMMARY:Port aux cerises (11 km)
UID:514498ef-7d0e-4d93-9c0c-589995dcbb2d
DTSTART:20260616T220000Z
DTEND:20260617T220000Z
LOCATION:Localisation   
CATEGORIES:Sportif
STATUS:
DESCRIPTION:<p>DRAVEIL LE PORT AUX CERISES11 KM</p>
 
 <p>PAS DE
 DIFFICULTE PARTICULIERE C EST PLAT</p>
 
 <p>ET MAJORITAIREMENT A  L
 INTERIEUR DU PARC DE LOISIRS</p>
 
 <p>RDV A LA POSTE A
 8H30</p>
 
 <p>PARKING SUR PLACE A LENTREE DU PARC</p>
 
 <p>CO VOITURAGE
 1.50 EUR</p>
 
 <p>MON  TEL EST LE 06 16 80 76 66</p>
URL;VALUE=URI:https://vitalite-st-pierre.sportsregions.fr/evenements/2026/06/17/port-aux-cerises-11-km-2433722
END:VEVENT
END:VCALENDAR
