BEGIN:VCALENDAR
VERSION:2.0
PRODID:-//hacksw/handcal//NONSGML v1.0//EN
BEGIN:VEVENT
SUMMARY:Ollainville (12 km)
UID:2e73fad8-61f2-446b-b10f-ef6dfc57fe68
DTSTART:20260526T220000Z
DTEND:20260527T220000Z
LOCATION:Localisation   
CATEGORIES:Sportif
STATUS:
DESCRIPTION:<p>OLLAINVILLE BRUYERES LE CHATEL 12 KM</p>
 
 <p>RDV A LA
 POSTE DE ST PIERRE A 8H30</p>
 
 <p>PARKING SUR PLACE A EGLY PRES DES
 ETANGS A GAUCHE APRES LA GARE D EGLY</p>
 
 <p>MON TEL EST LE 06 16 80
 76 66 </p>
URL;VALUE=URI:https://vitalite-st-pierre.sportsregions.fr/evenements/2026/05/27/ollainville-12-km-2432480
END:VEVENT
END:VCALENDAR
