BEGIN:VCALENDAR
VERSION:2.0
PRODID:-//hacksw/handcal//NONSGML v1.0//EN
BEGIN:VEVENT
SUMMARY:Chaumes en huit
UID:b65b0cbd-f0fe-4e81-9e47-3a6a7ab98cc4
DTSTART:20260507T063000Z
DTEND:20260507T220000Z
LOCATION:Localisation   
CATEGORIES:Sportif
STATUS:
DESCRIPTION:<p><span style="font-size:22px;">Attention
 jeudi </span></p>
 
 <p><span style="font-size:16px;">parcours en huit
  a chaumes en brie </span></p>
 
 <p><span style="font-size:16px;">le
 matin 11km  et retour aux voitures </span></p>
 
 <p><span
 style="font-size:16px;">Pour ceux qui le veulent pique-nique au
 parking puis 10 km l'apres-midi</span></p>
 
 <p><span
 style="font-size:16px;">rdv habituel ou bien 9h au parking 17 rue
 gallier a chaumes</span></p>
 
 <p><span style="font-size:16px;">cov
 4,5€</span></p>
 
 <p><span style="font-size:16px;">mon tel <a
 href="tel:06 58 28 81 75">06 58 28 81 75</a></span></p>
 
 <p> </p>
URL;VALUE=URI:https://vitalite-st-pierre.sportsregions.fr/evenements/2026/05/07/chaumes-en-huit-2443901
END:VEVENT
END:VCALENDAR
