BEGIN:VCALENDAR
VERSION:2.0
PRODID:-//hacksw/handcal//NONSGML v1.0//EN
BEGIN:VEVENT
SUMMARY:Blandy-les-Tours / Bombon 24 km
UID:72d65afb-dfc7-419c-9979-c95c708c97b3
DTSTART:20260412T063000Z
DTEND:20260412T143000Z
LOCATION:Localisation   
CATEGORIES:Sportif
STATUS:
DESCRIPTION:<p>RDV a la poste de St Pierre du Perray a 8 h
 30.</p>
 
 <p>Depart de la rando : Parking route du pont Paillard apres
 le pont.</p>
 
 <p>Denivele : 240 m</p>
 
 <p>Covoiturage : 4, 5 €.</p>
URL;VALUE=URI:https://vitalite-st-pierre.sportsregions.fr/evenements/2026/04/12/blandy-les-tours-bombon-24-km-2438077
END:VEVENT
END:VCALENDAR
